BEGIN:VCALENDAR
VERSION:2.0
PRODID:-//Country Club of Gwinnett - ECPv6.15.18//NONSGML v1.0//EN
CALSCALE:GREGORIAN
METHOD:PUBLISH
X-ORIGINAL-URL:https://www.countryclubgwinnett.com
X-WR-CALDESC:Events for Country Club of Gwinnett
REFRESH-INTERVAL;VALUE=DURATION:PT1H
X-Robots-Tag:noindex
X-PUBLISHED-TTL:PT1H
BEGIN:VTIMEZONE
TZID:America/New_York
BEGIN:DAYLIGHT
TZOFFSETFROM:-0500
TZOFFSETTO:-0400
TZNAME:EDT
DTSTART:20240310T070000
END:DAYLIGHT
BEGIN:STANDARD
TZOFFSETFROM:-0400
TZOFFSETTO:-0500
TZNAME:EST
DTSTART:20241103T060000
END:STANDARD
BEGIN:DAYLIGHT
TZOFFSETFROM:-0500
TZOFFSETTO:-0400
TZNAME:EDT
DTSTART:20250309T070000
END:DAYLIGHT
BEGIN:STANDARD
TZOFFSETFROM:-0400
TZOFFSETTO:-0500
TZNAME:EST
DTSTART:20251102T060000
END:STANDARD
BEGIN:DAYLIGHT
TZOFFSETFROM:-0500
TZOFFSETTO:-0400
TZNAME:EDT
DTSTART:20260308T070000
END:DAYLIGHT
BEGIN:STANDARD
TZOFFSETFROM:-0400
TZOFFSETTO:-0500
TZNAME:EST
DTSTART:20261101T060000
END:STANDARD
END:VTIMEZONE
BEGIN:VEVENT
DTSTART;TZID=America/New_York:20251107T170000
DTEND;TZID=America/New_York:20251107T210000
DTSTAMP:20260424T094308
CREATED:20251107T134406Z
LAST-MODIFIED:20260416T194429Z
UID:10000627-1762534800-1762549200@www.countryclubgwinnett.com
SUMMARY:Friday Night Dinner
DESCRIPTION:
URL:https://www.countryclubgwinnett.com/event/friday-night-dinner-5/2025-11-07/
ORGANIZER;CN="Osean McDowell":MAILTO:plateupllc@gmail.com
END:VEVENT
BEGIN:VEVENT
DTSTART;VALUE=DATE:20251111
DTEND;VALUE=DATE:20251112
DTSTAMP:20260424T094308
CREATED:20251106T191641Z
LAST-MODIFIED:20260416T201335Z
UID:10000366-1762819200-1762905599@www.countryclubgwinnett.com
SUMMARY:TACO TUESDAY $2.00
DESCRIPTION: 
URL:https://www.countryclubgwinnett.com/event/taco-tuesday-2-00/2025-11-11/
ORGANIZER;CN="Osean McDowell":MAILTO:plateupllc@gmail.com
END:VEVENT
BEGIN:VEVENT
DTSTART;TZID=America/New_York:20251114T170000
DTEND;TZID=America/New_York:20251114T210000
DTSTAMP:20260424T094308
CREATED:20251107T134406Z
LAST-MODIFIED:20260416T194429Z
UID:10000628-1763139600-1763154000@www.countryclubgwinnett.com
SUMMARY:Friday Night Dinner
DESCRIPTION:
URL:https://www.countryclubgwinnett.com/event/friday-night-dinner-5/2025-11-14/
ORGANIZER;CN="Osean McDowell":MAILTO:plateupllc@gmail.com
END:VEVENT
BEGIN:VEVENT
DTSTART;VALUE=DATE:20251118
DTEND;VALUE=DATE:20251119
DTSTAMP:20260424T094308
CREATED:20251106T191641Z
LAST-MODIFIED:20260416T201335Z
UID:10000367-1763424000-1763510399@www.countryclubgwinnett.com
SUMMARY:TACO TUESDAY $2.00
DESCRIPTION: 
URL:https://www.countryclubgwinnett.com/event/taco-tuesday-2-00/2025-11-18/
ORGANIZER;CN="Osean McDowell":MAILTO:plateupllc@gmail.com
END:VEVENT
BEGIN:VEVENT
DTSTART;TZID=America/New_York:20251121T170000
DTEND;TZID=America/New_York:20251121T210000
DTSTAMP:20260424T094308
CREATED:20251107T134406Z
LAST-MODIFIED:20260416T194429Z
UID:10000629-1763744400-1763758800@www.countryclubgwinnett.com
SUMMARY:Friday Night Dinner
DESCRIPTION:
URL:https://www.countryclubgwinnett.com/event/friday-night-dinner-5/2025-11-21/
ORGANIZER;CN="Osean McDowell":MAILTO:plateupllc@gmail.com
END:VEVENT
BEGIN:VEVENT
DTSTART;VALUE=DATE:20251125
DTEND;VALUE=DATE:20251126
DTSTAMP:20260424T094308
CREATED:20251106T191641Z
LAST-MODIFIED:20260416T201335Z
UID:10000368-1764028800-1764115199@www.countryclubgwinnett.com
SUMMARY:TACO TUESDAY $2.00
DESCRIPTION: 
URL:https://www.countryclubgwinnett.com/event/taco-tuesday-2-00/2025-11-25/
ORGANIZER;CN="Osean McDowell":MAILTO:plateupllc@gmail.com
END:VEVENT
BEGIN:VEVENT
DTSTART;TZID=America/New_York:20251128T170000
DTEND;TZID=America/New_York:20251128T210000
DTSTAMP:20260424T094308
CREATED:20251107T134406Z
LAST-MODIFIED:20260416T194429Z
UID:10000630-1764349200-1764363600@www.countryclubgwinnett.com
SUMMARY:Friday Night Dinner
DESCRIPTION:
URL:https://www.countryclubgwinnett.com/event/friday-night-dinner-5/2025-11-28/
ORGANIZER;CN="Osean McDowell":MAILTO:plateupllc@gmail.com
END:VEVENT
END:VCALENDAR