BEGIN:VCALENDAR
VERSION:2.0
PRODID:-//Country Club of Gwinnett - ECPv6.15.18//NONSGML v1.0//EN
CALSCALE:GREGORIAN
METHOD:PUBLISH
X-WR-CALNAME:Country Club of Gwinnett
X-ORIGINAL-URL:https://www.countryclubgwinnett.com
X-WR-CALDESC:Events for Country Club of Gwinnett
REFRESH-INTERVAL;VALUE=DURATION:PT1H
X-Robots-Tag:noindex
X-PUBLISHED-TTL:PT1H
BEGIN:VTIMEZONE
TZID:America/New_York
BEGIN:DAYLIGHT
TZOFFSETFROM:-0500
TZOFFSETTO:-0400
TZNAME:EDT
DTSTART:20260308T070000
END:DAYLIGHT
BEGIN:STANDARD
TZOFFSETFROM:-0400
TZOFFSETTO:-0500
TZNAME:EST
DTSTART:20261101T060000
END:STANDARD
BEGIN:DAYLIGHT
TZOFFSETFROM:-0500
TZOFFSETTO:-0400
TZNAME:EDT
DTSTART:20270314T070000
END:DAYLIGHT
BEGIN:STANDARD
TZOFFSETFROM:-0400
TZOFFSETTO:-0500
TZNAME:EST
DTSTART:20271107T060000
END:STANDARD
BEGIN:DAYLIGHT
TZOFFSETFROM:-0500
TZOFFSETTO:-0400
TZNAME:EDT
DTSTART:20280312T070000
END:DAYLIGHT
BEGIN:STANDARD
TZOFFSETFROM:-0400
TZOFFSETTO:-0500
TZNAME:EST
DTSTART:20281105T060000
END:STANDARD
END:VTIMEZONE
BEGIN:VEVENT
DTSTART;TZID=America/New_York:20270326T170000
DTEND;TZID=America/New_York:20270326T180000
DTSTAMP:20260423T062028
CREATED:20260416T194341Z
LAST-MODIFIED:20260416T194341Z
UID:10004893-1806080400-1806084000@www.countryclubgwinnett.com
SUMMARY:Happy Hour
DESCRIPTION:
URL:https://www.countryclubgwinnett.com/event/happy-hour/2027-03-26/
END:VEVENT
BEGIN:VEVENT
DTSTART;TZID=America/New_York:20270402T170000
DTEND;TZID=America/New_York:20270402T180000
DTSTAMP:20260423T062028
CREATED:20260416T194341Z
LAST-MODIFIED:20260416T194341Z
UID:10004894-1806685200-1806688800@www.countryclubgwinnett.com
SUMMARY:Happy Hour
DESCRIPTION:
URL:https://www.countryclubgwinnett.com/event/happy-hour/2027-04-02/
END:VEVENT
BEGIN:VEVENT
DTSTART;TZID=America/New_York:20270409T170000
DTEND;TZID=America/New_York:20270409T180000
DTSTAMP:20260423T062028
CREATED:20260416T194341Z
LAST-MODIFIED:20260416T194341Z
UID:10004895-1807290000-1807293600@www.countryclubgwinnett.com
SUMMARY:Happy Hour
DESCRIPTION:
URL:https://www.countryclubgwinnett.com/event/happy-hour/2027-04-09/
END:VEVENT
BEGIN:VEVENT
DTSTART;TZID=America/New_York:20270416T170000
DTEND;TZID=America/New_York:20270416T180000
DTSTAMP:20260423T062028
CREATED:20260416T194341Z
LAST-MODIFIED:20260416T194341Z
UID:10004896-1807894800-1807898400@www.countryclubgwinnett.com
SUMMARY:Happy Hour
DESCRIPTION:
URL:https://www.countryclubgwinnett.com/event/happy-hour/2027-04-16/
END:VEVENT
BEGIN:VEVENT
DTSTART;TZID=America/New_York:20270423T170000
DTEND;TZID=America/New_York:20270423T180000
DTSTAMP:20260423T062028
CREATED:20260416T194341Z
LAST-MODIFIED:20260416T194341Z
UID:10004897-1808499600-1808503200@www.countryclubgwinnett.com
SUMMARY:Happy Hour
DESCRIPTION:
URL:https://www.countryclubgwinnett.com/event/happy-hour/2027-04-23/
END:VEVENT
BEGIN:VEVENT
DTSTART;TZID=America/New_York:20270430T170000
DTEND;TZID=America/New_York:20270430T180000
DTSTAMP:20260423T062028
CREATED:20260416T194341Z
LAST-MODIFIED:20260416T194341Z
UID:10004898-1809104400-1809108000@www.countryclubgwinnett.com
SUMMARY:Happy Hour
DESCRIPTION:
URL:https://www.countryclubgwinnett.com/event/happy-hour/2027-04-30/
END:VEVENT
BEGIN:VEVENT
DTSTART;TZID=America/New_York:20270507T170000
DTEND;TZID=America/New_York:20270507T180000
DTSTAMP:20260423T062028
CREATED:20260416T194341Z
LAST-MODIFIED:20260416T194341Z
UID:10004899-1809709200-1809712800@www.countryclubgwinnett.com
SUMMARY:Happy Hour
DESCRIPTION:
URL:https://www.countryclubgwinnett.com/event/happy-hour/2027-05-07/
END:VEVENT
BEGIN:VEVENT
DTSTART;TZID=America/New_York:20270514T170000
DTEND;TZID=America/New_York:20270514T180000
DTSTAMP:20260423T062028
CREATED:20260416T194341Z
LAST-MODIFIED:20260416T194341Z
UID:10004900-1810314000-1810317600@www.countryclubgwinnett.com
SUMMARY:Happy Hour
DESCRIPTION:
URL:https://www.countryclubgwinnett.com/event/happy-hour/2027-05-14/
END:VEVENT
BEGIN:VEVENT
DTSTART;TZID=America/New_York:20270521T170000
DTEND;TZID=America/New_York:20270521T180000
DTSTAMP:20260423T062028
CREATED:20260416T194341Z
LAST-MODIFIED:20260416T194341Z
UID:10004901-1810918800-1810922400@www.countryclubgwinnett.com
SUMMARY:Happy Hour
DESCRIPTION:
URL:https://www.countryclubgwinnett.com/event/happy-hour/2027-05-21/
END:VEVENT
BEGIN:VEVENT
DTSTART;TZID=America/New_York:20270528T170000
DTEND;TZID=America/New_York:20270528T180000
DTSTAMP:20260423T062028
CREATED:20260416T194341Z
LAST-MODIFIED:20260416T194341Z
UID:10004902-1811523600-1811527200@www.countryclubgwinnett.com
SUMMARY:Happy Hour
DESCRIPTION:
URL:https://www.countryclubgwinnett.com/event/happy-hour/2027-05-28/
END:VEVENT
BEGIN:VEVENT
DTSTART;TZID=America/New_York:20270604T170000
DTEND;TZID=America/New_York:20270604T180000
DTSTAMP:20260423T062028
CREATED:20260416T194341Z
LAST-MODIFIED:20260416T194341Z
UID:10004903-1812128400-1812132000@www.countryclubgwinnett.com
SUMMARY:Happy Hour
DESCRIPTION:
URL:https://www.countryclubgwinnett.com/event/happy-hour/2027-06-04/
END:VEVENT
BEGIN:VEVENT
DTSTART;TZID=America/New_York:20270611T170000
DTEND;TZID=America/New_York:20270611T180000
DTSTAMP:20260423T062028
CREATED:20260416T194341Z
LAST-MODIFIED:20260416T194341Z
UID:10004904-1812733200-1812736800@www.countryclubgwinnett.com
SUMMARY:Happy Hour
DESCRIPTION:
URL:https://www.countryclubgwinnett.com/event/happy-hour/2027-06-11/
END:VEVENT
BEGIN:VEVENT
DTSTART;TZID=America/New_York:20270618T170000
DTEND;TZID=America/New_York:20270618T180000
DTSTAMP:20260423T062028
CREATED:20260416T194341Z
LAST-MODIFIED:20260416T194341Z
UID:10004905-1813338000-1813341600@www.countryclubgwinnett.com
SUMMARY:Happy Hour
DESCRIPTION:
URL:https://www.countryclubgwinnett.com/event/happy-hour/2027-06-18/
END:VEVENT
BEGIN:VEVENT
DTSTART;TZID=America/New_York:20270625T170000
DTEND;TZID=America/New_York:20270625T180000
DTSTAMP:20260423T062028
CREATED:20260416T194341Z
LAST-MODIFIED:20260416T194341Z
UID:10004906-1813942800-1813946400@www.countryclubgwinnett.com
SUMMARY:Happy Hour
DESCRIPTION:
URL:https://www.countryclubgwinnett.com/event/happy-hour/2027-06-25/
END:VEVENT
BEGIN:VEVENT
DTSTART;TZID=America/New_York:20270702T170000
DTEND;TZID=America/New_York:20270702T180000
DTSTAMP:20260423T062028
CREATED:20260416T194341Z
LAST-MODIFIED:20260416T194341Z
UID:10004907-1814547600-1814551200@www.countryclubgwinnett.com
SUMMARY:Happy Hour
DESCRIPTION:
URL:https://www.countryclubgwinnett.com/event/happy-hour/2027-07-02/
END:VEVENT
BEGIN:VEVENT
DTSTART;TZID=America/New_York:20270709T170000
DTEND;TZID=America/New_York:20270709T180000
DTSTAMP:20260423T062028
CREATED:20260416T194341Z
LAST-MODIFIED:20260416T194341Z
UID:10004908-1815152400-1815156000@www.countryclubgwinnett.com
SUMMARY:Happy Hour
DESCRIPTION:
URL:https://www.countryclubgwinnett.com/event/happy-hour/2027-07-09/
END:VEVENT
BEGIN:VEVENT
DTSTART;TZID=America/New_York:20270716T170000
DTEND;TZID=America/New_York:20270716T180000
DTSTAMP:20260423T062028
CREATED:20260416T194341Z
LAST-MODIFIED:20260416T194341Z
UID:10004909-1815757200-1815760800@www.countryclubgwinnett.com
SUMMARY:Happy Hour
DESCRIPTION:
URL:https://www.countryclubgwinnett.com/event/happy-hour/2027-07-16/
END:VEVENT
BEGIN:VEVENT
DTSTART;TZID=America/New_York:20270723T170000
DTEND;TZID=America/New_York:20270723T180000
DTSTAMP:20260423T062028
CREATED:20260416T194341Z
LAST-MODIFIED:20260416T194341Z
UID:10004910-1816362000-1816365600@www.countryclubgwinnett.com
SUMMARY:Happy Hour
DESCRIPTION:
URL:https://www.countryclubgwinnett.com/event/happy-hour/2027-07-23/
END:VEVENT
BEGIN:VEVENT
DTSTART;TZID=America/New_York:20270730T170000
DTEND;TZID=America/New_York:20270730T180000
DTSTAMP:20260423T062028
CREATED:20260416T194341Z
LAST-MODIFIED:20260416T194341Z
UID:10004911-1816966800-1816970400@www.countryclubgwinnett.com
SUMMARY:Happy Hour
DESCRIPTION:
URL:https://www.countryclubgwinnett.com/event/happy-hour/2027-07-30/
END:VEVENT
BEGIN:VEVENT
DTSTART;TZID=America/New_York:20270806T170000
DTEND;TZID=America/New_York:20270806T180000
DTSTAMP:20260423T062028
CREATED:20260416T194341Z
LAST-MODIFIED:20260416T194341Z
UID:10004912-1817571600-1817575200@www.countryclubgwinnett.com
SUMMARY:Happy Hour
DESCRIPTION:
URL:https://www.countryclubgwinnett.com/event/happy-hour/2027-08-06/
END:VEVENT
BEGIN:VEVENT
DTSTART;TZID=America/New_York:20270813T170000
DTEND;TZID=America/New_York:20270813T180000
DTSTAMP:20260423T062028
CREATED:20260416T194341Z
LAST-MODIFIED:20260416T194341Z
UID:10004913-1818176400-1818180000@www.countryclubgwinnett.com
SUMMARY:Happy Hour
DESCRIPTION:
URL:https://www.countryclubgwinnett.com/event/happy-hour/2027-08-13/
END:VEVENT
BEGIN:VEVENT
DTSTART;TZID=America/New_York:20270820T170000
DTEND;TZID=America/New_York:20270820T180000
DTSTAMP:20260423T062028
CREATED:20260416T194341Z
LAST-MODIFIED:20260416T194341Z
UID:10004914-1818781200-1818784800@www.countryclubgwinnett.com
SUMMARY:Happy Hour
DESCRIPTION:
URL:https://www.countryclubgwinnett.com/event/happy-hour/2027-08-20/
END:VEVENT
BEGIN:VEVENT
DTSTART;TZID=America/New_York:20270827T170000
DTEND;TZID=America/New_York:20270827T180000
DTSTAMP:20260423T062028
CREATED:20260416T194341Z
LAST-MODIFIED:20260416T194341Z
UID:10004915-1819386000-1819389600@www.countryclubgwinnett.com
SUMMARY:Happy Hour
DESCRIPTION:
URL:https://www.countryclubgwinnett.com/event/happy-hour/2027-08-27/
END:VEVENT
BEGIN:VEVENT
DTSTART;TZID=America/New_York:20270903T170000
DTEND;TZID=America/New_York:20270903T180000
DTSTAMP:20260423T062028
CREATED:20260416T194341Z
LAST-MODIFIED:20260416T194341Z
UID:10004916-1819990800-1819994400@www.countryclubgwinnett.com
SUMMARY:Happy Hour
DESCRIPTION:
URL:https://www.countryclubgwinnett.com/event/happy-hour/2027-09-03/
END:VEVENT
BEGIN:VEVENT
DTSTART;TZID=America/New_York:20270910T170000
DTEND;TZID=America/New_York:20270910T180000
DTSTAMP:20260423T062028
CREATED:20260416T194341Z
LAST-MODIFIED:20260416T194341Z
UID:10004917-1820595600-1820599200@www.countryclubgwinnett.com
SUMMARY:Happy Hour
DESCRIPTION:
URL:https://www.countryclubgwinnett.com/event/happy-hour/2027-09-10/
END:VEVENT
BEGIN:VEVENT
DTSTART;TZID=America/New_York:20270917T170000
DTEND;TZID=America/New_York:20270917T180000
DTSTAMP:20260423T062028
CREATED:20260416T194341Z
LAST-MODIFIED:20260416T194341Z
UID:10004918-1821200400-1821204000@www.countryclubgwinnett.com
SUMMARY:Happy Hour
DESCRIPTION:
URL:https://www.countryclubgwinnett.com/event/happy-hour/2027-09-17/
END:VEVENT
BEGIN:VEVENT
DTSTART;TZID=America/New_York:20270924T170000
DTEND;TZID=America/New_York:20270924T180000
DTSTAMP:20260423T062028
CREATED:20260416T194341Z
LAST-MODIFIED:20260416T194341Z
UID:10004919-1821805200-1821808800@www.countryclubgwinnett.com
SUMMARY:Happy Hour
DESCRIPTION:
URL:https://www.countryclubgwinnett.com/event/happy-hour/2027-09-24/
END:VEVENT
BEGIN:VEVENT
DTSTART;TZID=America/New_York:20271001T170000
DTEND;TZID=America/New_York:20271001T180000
DTSTAMP:20260423T062028
CREATED:20260416T194341Z
LAST-MODIFIED:20260416T194341Z
UID:10004920-1822410000-1822413600@www.countryclubgwinnett.com
SUMMARY:Happy Hour
DESCRIPTION:
URL:https://www.countryclubgwinnett.com/event/happy-hour/2027-10-01/
END:VEVENT
BEGIN:VEVENT
DTSTART;TZID=America/New_York:20271008T170000
DTEND;TZID=America/New_York:20271008T180000
DTSTAMP:20260423T062028
CREATED:20260416T194341Z
LAST-MODIFIED:20260416T194341Z
UID:10004921-1823014800-1823018400@www.countryclubgwinnett.com
SUMMARY:Happy Hour
DESCRIPTION:
URL:https://www.countryclubgwinnett.com/event/happy-hour/2027-10-08/
END:VEVENT
BEGIN:VEVENT
DTSTART;TZID=America/New_York:20271015T170000
DTEND;TZID=America/New_York:20271015T180000
DTSTAMP:20260423T062028
CREATED:20260416T194341Z
LAST-MODIFIED:20260416T194341Z
UID:10004922-1823619600-1823623200@www.countryclubgwinnett.com
SUMMARY:Happy Hour
DESCRIPTION:
URL:https://www.countryclubgwinnett.com/event/happy-hour/2027-10-15/
END:VEVENT
END:VCALENDAR