BEGIN:VCALENDAR
VERSION:2.0
PRODID:-//Country Club of Gwinnett - ECPv6.15.18//NONSGML v1.0//EN
CALSCALE:GREGORIAN
METHOD:PUBLISH
X-WR-CALNAME:Country Club of Gwinnett
X-ORIGINAL-URL:https://www.countryclubgwinnett.com
X-WR-CALDESC:Events for Country Club of Gwinnett
REFRESH-INTERVAL;VALUE=DURATION:PT1H
X-Robots-Tag:noindex
X-PUBLISHED-TTL:PT1H
BEGIN:VTIMEZONE
TZID:America/New_York
BEGIN:DAYLIGHT
TZOFFSETFROM:-0500
TZOFFSETTO:-0400
TZNAME:EDT
DTSTART:20250309T070000
END:DAYLIGHT
BEGIN:STANDARD
TZOFFSETFROM:-0400
TZOFFSETTO:-0500
TZNAME:EST
DTSTART:20251102T060000
END:STANDARD
BEGIN:DAYLIGHT
TZOFFSETFROM:-0500
TZOFFSETTO:-0400
TZNAME:EDT
DTSTART:20260308T070000
END:DAYLIGHT
BEGIN:STANDARD
TZOFFSETFROM:-0400
TZOFFSETTO:-0500
TZNAME:EST
DTSTART:20261101T060000
END:STANDARD
BEGIN:DAYLIGHT
TZOFFSETFROM:-0500
TZOFFSETTO:-0400
TZNAME:EDT
DTSTART:20270314T070000
END:DAYLIGHT
BEGIN:STANDARD
TZOFFSETFROM:-0400
TZOFFSETTO:-0500
TZNAME:EST
DTSTART:20271107T060000
END:STANDARD
BEGIN:DAYLIGHT
TZOFFSETFROM:-0500
TZOFFSETTO:-0400
TZNAME:EDT
DTSTART:20280312T070000
END:DAYLIGHT
BEGIN:STANDARD
TZOFFSETFROM:-0400
TZOFFSETTO:-0500
TZNAME:EST
DTSTART:20281105T060000
END:STANDARD
END:VTIMEZONE
BEGIN:VEVENT
DTSTART;TZID=America/New_York:20261009T173000
DTEND;TZID=America/New_York:20261009T193000
DTSTAMP:20260423T062033
CREATED:20260416T194220Z
LAST-MODIFIED:20260416T194220Z
UID:10004372-1791567000-1791574200@www.countryclubgwinnett.com
SUMMARY:PGA Junior League
DESCRIPTION:Join our PGA Junior League! ⛳️ \nMatches take place on Wednesday nights\, with practice every Friday night. Stick around after practice on Fridays to hang out\, have fun\, and enjoy the club atmosphere with friends! 🎉
URL:https://www.countryclubgwinnett.com/event/pga-junior-league/2026-10-09/
ORGANIZER;CN="LauraAnne Branson":MAILTO:lbranson@countryclubgwinnett.com
END:VEVENT
BEGIN:VEVENT
DTSTART;TZID=America/New_York:20261014T173000
DTEND;TZID=America/New_York:20261014T193000
DTSTAMP:20260423T062033
CREATED:20260416T194220Z
LAST-MODIFIED:20260416T194220Z
UID:10004373-1791999000-1792006200@www.countryclubgwinnett.com
SUMMARY:PGA Junior League
DESCRIPTION:Join our PGA Junior League! ⛳️ \nMatches take place on Wednesday nights\, with practice every Friday night. Stick around after practice on Fridays to hang out\, have fun\, and enjoy the club atmosphere with friends! 🎉
URL:https://www.countryclubgwinnett.com/event/pga-junior-league/2026-10-14/
ORGANIZER;CN="LauraAnne Branson":MAILTO:lbranson@countryclubgwinnett.com
END:VEVENT
BEGIN:VEVENT
DTSTART;TZID=America/New_York:20261016T173000
DTEND;TZID=America/New_York:20261016T193000
DTSTAMP:20260423T062033
CREATED:20260416T194220Z
LAST-MODIFIED:20260416T194220Z
UID:10004374-1792171800-1792179000@www.countryclubgwinnett.com
SUMMARY:PGA Junior League
DESCRIPTION:Join our PGA Junior League! ⛳️ \nMatches take place on Wednesday nights\, with practice every Friday night. Stick around after practice on Fridays to hang out\, have fun\, and enjoy the club atmosphere with friends! 🎉
URL:https://www.countryclubgwinnett.com/event/pga-junior-league/2026-10-16/
ORGANIZER;CN="LauraAnne Branson":MAILTO:lbranson@countryclubgwinnett.com
END:VEVENT
BEGIN:VEVENT
DTSTART;TZID=America/New_York:20261021T173000
DTEND;TZID=America/New_York:20261021T193000
DTSTAMP:20260423T062033
CREATED:20260416T194220Z
LAST-MODIFIED:20260416T194220Z
UID:10004375-1792603800-1792611000@www.countryclubgwinnett.com
SUMMARY:PGA Junior League
DESCRIPTION:Join our PGA Junior League! ⛳️ \nMatches take place on Wednesday nights\, with practice every Friday night. Stick around after practice on Fridays to hang out\, have fun\, and enjoy the club atmosphere with friends! 🎉
URL:https://www.countryclubgwinnett.com/event/pga-junior-league/2026-10-21/
ORGANIZER;CN="LauraAnne Branson":MAILTO:lbranson@countryclubgwinnett.com
END:VEVENT
BEGIN:VEVENT
DTSTART;TZID=America/New_York:20261023T173000
DTEND;TZID=America/New_York:20261023T193000
DTSTAMP:20260423T062033
CREATED:20260416T194220Z
LAST-MODIFIED:20260416T194220Z
UID:10004376-1792776600-1792783800@www.countryclubgwinnett.com
SUMMARY:PGA Junior League
DESCRIPTION:Join our PGA Junior League! ⛳️ \nMatches take place on Wednesday nights\, with practice every Friday night. Stick around after practice on Fridays to hang out\, have fun\, and enjoy the club atmosphere with friends! 🎉
URL:https://www.countryclubgwinnett.com/event/pga-junior-league/2026-10-23/
ORGANIZER;CN="LauraAnne Branson":MAILTO:lbranson@countryclubgwinnett.com
END:VEVENT
BEGIN:VEVENT
DTSTART;TZID=America/New_York:20261028T173000
DTEND;TZID=America/New_York:20261028T193000
DTSTAMP:20260423T062033
CREATED:20260416T194220Z
LAST-MODIFIED:20260416T194220Z
UID:10004377-1793208600-1793215800@www.countryclubgwinnett.com
SUMMARY:PGA Junior League
DESCRIPTION:Join our PGA Junior League! ⛳️ \nMatches take place on Wednesday nights\, with practice every Friday night. Stick around after practice on Fridays to hang out\, have fun\, and enjoy the club atmosphere with friends! 🎉
URL:https://www.countryclubgwinnett.com/event/pga-junior-league/2026-10-28/
ORGANIZER;CN="LauraAnne Branson":MAILTO:lbranson@countryclubgwinnett.com
END:VEVENT
BEGIN:VEVENT
DTSTART;TZID=America/New_York:20261030T173000
DTEND;TZID=America/New_York:20261030T193000
DTSTAMP:20260423T062033
CREATED:20260416T194220Z
LAST-MODIFIED:20260416T194220Z
UID:10004378-1793381400-1793388600@www.countryclubgwinnett.com
SUMMARY:PGA Junior League
DESCRIPTION:Join our PGA Junior League! ⛳️ \nMatches take place on Wednesday nights\, with practice every Friday night. Stick around after practice on Fridays to hang out\, have fun\, and enjoy the club atmosphere with friends! 🎉
URL:https://www.countryclubgwinnett.com/event/pga-junior-league/2026-10-30/
ORGANIZER;CN="LauraAnne Branson":MAILTO:lbranson@countryclubgwinnett.com
END:VEVENT
BEGIN:VEVENT
DTSTART;TZID=America/New_York:20261104T173000
DTEND;TZID=America/New_York:20261104T193000
DTSTAMP:20260423T062033
CREATED:20260416T194220Z
LAST-MODIFIED:20260416T194220Z
UID:10004379-1793813400-1793820600@www.countryclubgwinnett.com
SUMMARY:PGA Junior League
DESCRIPTION:Join our PGA Junior League! ⛳️ \nMatches take place on Wednesday nights\, with practice every Friday night. Stick around after practice on Fridays to hang out\, have fun\, and enjoy the club atmosphere with friends! 🎉
URL:https://www.countryclubgwinnett.com/event/pga-junior-league/2026-11-04/
ORGANIZER;CN="LauraAnne Branson":MAILTO:lbranson@countryclubgwinnett.com
END:VEVENT
BEGIN:VEVENT
DTSTART;TZID=America/New_York:20261106T173000
DTEND;TZID=America/New_York:20261106T193000
DTSTAMP:20260423T062033
CREATED:20260416T194220Z
LAST-MODIFIED:20260416T194220Z
UID:10004380-1793986200-1793993400@www.countryclubgwinnett.com
SUMMARY:PGA Junior League
DESCRIPTION:Join our PGA Junior League! ⛳️ \nMatches take place on Wednesday nights\, with practice every Friday night. Stick around after practice on Fridays to hang out\, have fun\, and enjoy the club atmosphere with friends! 🎉
URL:https://www.countryclubgwinnett.com/event/pga-junior-league/2026-11-06/
ORGANIZER;CN="LauraAnne Branson":MAILTO:lbranson@countryclubgwinnett.com
END:VEVENT
BEGIN:VEVENT
DTSTART;TZID=America/New_York:20261111T173000
DTEND;TZID=America/New_York:20261111T193000
DTSTAMP:20260423T062033
CREATED:20260416T194220Z
LAST-MODIFIED:20260416T194220Z
UID:10004381-1794418200-1794425400@www.countryclubgwinnett.com
SUMMARY:PGA Junior League
DESCRIPTION:Join our PGA Junior League! ⛳️ \nMatches take place on Wednesday nights\, with practice every Friday night. Stick around after practice on Fridays to hang out\, have fun\, and enjoy the club atmosphere with friends! 🎉
URL:https://www.countryclubgwinnett.com/event/pga-junior-league/2026-11-11/
ORGANIZER;CN="LauraAnne Branson":MAILTO:lbranson@countryclubgwinnett.com
END:VEVENT
BEGIN:VEVENT
DTSTART;TZID=America/New_York:20261113T173000
DTEND;TZID=America/New_York:20261113T193000
DTSTAMP:20260423T062033
CREATED:20260416T194220Z
LAST-MODIFIED:20260416T194220Z
UID:10004382-1794591000-1794598200@www.countryclubgwinnett.com
SUMMARY:PGA Junior League
DESCRIPTION:Join our PGA Junior League! ⛳️ \nMatches take place on Wednesday nights\, with practice every Friday night. Stick around after practice on Fridays to hang out\, have fun\, and enjoy the club atmosphere with friends! 🎉
URL:https://www.countryclubgwinnett.com/event/pga-junior-league/2026-11-13/
ORGANIZER;CN="LauraAnne Branson":MAILTO:lbranson@countryclubgwinnett.com
END:VEVENT
BEGIN:VEVENT
DTSTART;TZID=America/New_York:20261118T173000
DTEND;TZID=America/New_York:20261118T193000
DTSTAMP:20260423T062033
CREATED:20260416T194220Z
LAST-MODIFIED:20260416T194220Z
UID:10004383-1795023000-1795030200@www.countryclubgwinnett.com
SUMMARY:PGA Junior League
DESCRIPTION:Join our PGA Junior League! ⛳️ \nMatches take place on Wednesday nights\, with practice every Friday night. Stick around after practice on Fridays to hang out\, have fun\, and enjoy the club atmosphere with friends! 🎉
URL:https://www.countryclubgwinnett.com/event/pga-junior-league/2026-11-18/
ORGANIZER;CN="LauraAnne Branson":MAILTO:lbranson@countryclubgwinnett.com
END:VEVENT
BEGIN:VEVENT
DTSTART;TZID=America/New_York:20261120T173000
DTEND;TZID=America/New_York:20261120T193000
DTSTAMP:20260423T062033
CREATED:20260416T194220Z
LAST-MODIFIED:20260416T194220Z
UID:10004384-1795195800-1795203000@www.countryclubgwinnett.com
SUMMARY:PGA Junior League
DESCRIPTION:Join our PGA Junior League! ⛳️ \nMatches take place on Wednesday nights\, with practice every Friday night. Stick around after practice on Fridays to hang out\, have fun\, and enjoy the club atmosphere with friends! 🎉
URL:https://www.countryclubgwinnett.com/event/pga-junior-league/2026-11-20/
ORGANIZER;CN="LauraAnne Branson":MAILTO:lbranson@countryclubgwinnett.com
END:VEVENT
BEGIN:VEVENT
DTSTART;TZID=America/New_York:20261125T173000
DTEND;TZID=America/New_York:20261125T193000
DTSTAMP:20260423T062033
CREATED:20260416T194220Z
LAST-MODIFIED:20260416T194220Z
UID:10004385-1795627800-1795635000@www.countryclubgwinnett.com
SUMMARY:PGA Junior League
DESCRIPTION:Join our PGA Junior League! ⛳️ \nMatches take place on Wednesday nights\, with practice every Friday night. Stick around after practice on Fridays to hang out\, have fun\, and enjoy the club atmosphere with friends! 🎉
URL:https://www.countryclubgwinnett.com/event/pga-junior-league/2026-11-25/
ORGANIZER;CN="LauraAnne Branson":MAILTO:lbranson@countryclubgwinnett.com
END:VEVENT
BEGIN:VEVENT
DTSTART;TZID=America/New_York:20261127T173000
DTEND;TZID=America/New_York:20261127T193000
DTSTAMP:20260423T062033
CREATED:20260416T194220Z
LAST-MODIFIED:20260416T194220Z
UID:10004386-1795800600-1795807800@www.countryclubgwinnett.com
SUMMARY:PGA Junior League
DESCRIPTION:Join our PGA Junior League! ⛳️ \nMatches take place on Wednesday nights\, with practice every Friday night. Stick around after practice on Fridays to hang out\, have fun\, and enjoy the club atmosphere with friends! 🎉
URL:https://www.countryclubgwinnett.com/event/pga-junior-league/2026-11-27/
ORGANIZER;CN="LauraAnne Branson":MAILTO:lbranson@countryclubgwinnett.com
END:VEVENT
BEGIN:VEVENT
DTSTART;TZID=America/New_York:20261202T173000
DTEND;TZID=America/New_York:20261202T193000
DTSTAMP:20260423T062033
CREATED:20260416T194220Z
LAST-MODIFIED:20260416T194220Z
UID:10004387-1796232600-1796239800@www.countryclubgwinnett.com
SUMMARY:PGA Junior League
DESCRIPTION:Join our PGA Junior League! ⛳️ \nMatches take place on Wednesday nights\, with practice every Friday night. Stick around after practice on Fridays to hang out\, have fun\, and enjoy the club atmosphere with friends! 🎉
URL:https://www.countryclubgwinnett.com/event/pga-junior-league/2026-12-02/
ORGANIZER;CN="LauraAnne Branson":MAILTO:lbranson@countryclubgwinnett.com
END:VEVENT
BEGIN:VEVENT
DTSTART;TZID=America/New_York:20261204T173000
DTEND;TZID=America/New_York:20261204T193000
DTSTAMP:20260423T062033
CREATED:20260416T194220Z
LAST-MODIFIED:20260416T194220Z
UID:10004388-1796405400-1796412600@www.countryclubgwinnett.com
SUMMARY:PGA Junior League
DESCRIPTION:Join our PGA Junior League! ⛳️ \nMatches take place on Wednesday nights\, with practice every Friday night. Stick around after practice on Fridays to hang out\, have fun\, and enjoy the club atmosphere with friends! 🎉
URL:https://www.countryclubgwinnett.com/event/pga-junior-league/2026-12-04/
ORGANIZER;CN="LauraAnne Branson":MAILTO:lbranson@countryclubgwinnett.com
END:VEVENT
BEGIN:VEVENT
DTSTART;TZID=America/New_York:20261209T173000
DTEND;TZID=America/New_York:20261209T193000
DTSTAMP:20260423T062033
CREATED:20260416T194220Z
LAST-MODIFIED:20260416T194220Z
UID:10004389-1796837400-1796844600@www.countryclubgwinnett.com
SUMMARY:PGA Junior League
DESCRIPTION:Join our PGA Junior League! ⛳️ \nMatches take place on Wednesday nights\, with practice every Friday night. Stick around after practice on Fridays to hang out\, have fun\, and enjoy the club atmosphere with friends! 🎉
URL:https://www.countryclubgwinnett.com/event/pga-junior-league/2026-12-09/
ORGANIZER;CN="LauraAnne Branson":MAILTO:lbranson@countryclubgwinnett.com
END:VEVENT
BEGIN:VEVENT
DTSTART;TZID=America/New_York:20261211T173000
DTEND;TZID=America/New_York:20261211T193000
DTSTAMP:20260423T062033
CREATED:20260416T194220Z
LAST-MODIFIED:20260416T194220Z
UID:10004390-1797010200-1797017400@www.countryclubgwinnett.com
SUMMARY:PGA Junior League
DESCRIPTION:Join our PGA Junior League! ⛳️ \nMatches take place on Wednesday nights\, with practice every Friday night. Stick around after practice on Fridays to hang out\, have fun\, and enjoy the club atmosphere with friends! 🎉
URL:https://www.countryclubgwinnett.com/event/pga-junior-league/2026-12-11/
ORGANIZER;CN="LauraAnne Branson":MAILTO:lbranson@countryclubgwinnett.com
END:VEVENT
BEGIN:VEVENT
DTSTART;TZID=America/New_York:20261216T173000
DTEND;TZID=America/New_York:20261216T193000
DTSTAMP:20260423T062033
CREATED:20260416T194220Z
LAST-MODIFIED:20260416T194220Z
UID:10004391-1797442200-1797449400@www.countryclubgwinnett.com
SUMMARY:PGA Junior League
DESCRIPTION:Join our PGA Junior League! ⛳️ \nMatches take place on Wednesday nights\, with practice every Friday night. Stick around after practice on Fridays to hang out\, have fun\, and enjoy the club atmosphere with friends! 🎉
URL:https://www.countryclubgwinnett.com/event/pga-junior-league/2026-12-16/
ORGANIZER;CN="LauraAnne Branson":MAILTO:lbranson@countryclubgwinnett.com
END:VEVENT
BEGIN:VEVENT
DTSTART;TZID=America/New_York:20261218T173000
DTEND;TZID=America/New_York:20261218T193000
DTSTAMP:20260423T062033
CREATED:20260416T194220Z
LAST-MODIFIED:20260416T194220Z
UID:10004392-1797615000-1797622200@www.countryclubgwinnett.com
SUMMARY:PGA Junior League
DESCRIPTION:Join our PGA Junior League! ⛳️ \nMatches take place on Wednesday nights\, with practice every Friday night. Stick around after practice on Fridays to hang out\, have fun\, and enjoy the club atmosphere with friends! 🎉
URL:https://www.countryclubgwinnett.com/event/pga-junior-league/2026-12-18/
ORGANIZER;CN="LauraAnne Branson":MAILTO:lbranson@countryclubgwinnett.com
END:VEVENT
BEGIN:VEVENT
DTSTART;TZID=America/New_York:20261223T173000
DTEND;TZID=America/New_York:20261223T193000
DTSTAMP:20260423T062033
CREATED:20260416T194220Z
LAST-MODIFIED:20260416T194220Z
UID:10004393-1798047000-1798054200@www.countryclubgwinnett.com
SUMMARY:PGA Junior League
DESCRIPTION:Join our PGA Junior League! ⛳️ \nMatches take place on Wednesday nights\, with practice every Friday night. Stick around after practice on Fridays to hang out\, have fun\, and enjoy the club atmosphere with friends! 🎉
URL:https://www.countryclubgwinnett.com/event/pga-junior-league/2026-12-23/
ORGANIZER;CN="LauraAnne Branson":MAILTO:lbranson@countryclubgwinnett.com
END:VEVENT
BEGIN:VEVENT
DTSTART;TZID=America/New_York:20261225T173000
DTEND;TZID=America/New_York:20261225T193000
DTSTAMP:20260423T062033
CREATED:20260416T194220Z
LAST-MODIFIED:20260416T194220Z
UID:10004394-1798219800-1798227000@www.countryclubgwinnett.com
SUMMARY:PGA Junior League
DESCRIPTION:Join our PGA Junior League! ⛳️ \nMatches take place on Wednesday nights\, with practice every Friday night. Stick around after practice on Fridays to hang out\, have fun\, and enjoy the club atmosphere with friends! 🎉
URL:https://www.countryclubgwinnett.com/event/pga-junior-league/2026-12-25/
ORGANIZER;CN="LauraAnne Branson":MAILTO:lbranson@countryclubgwinnett.com
END:VEVENT
BEGIN:VEVENT
DTSTART;TZID=America/New_York:20261230T173000
DTEND;TZID=America/New_York:20261230T193000
DTSTAMP:20260423T062033
CREATED:20260416T194220Z
LAST-MODIFIED:20260416T194220Z
UID:10004395-1798651800-1798659000@www.countryclubgwinnett.com
SUMMARY:PGA Junior League
DESCRIPTION:Join our PGA Junior League! ⛳️ \nMatches take place on Wednesday nights\, with practice every Friday night. Stick around after practice on Fridays to hang out\, have fun\, and enjoy the club atmosphere with friends! 🎉
URL:https://www.countryclubgwinnett.com/event/pga-junior-league/2026-12-30/
ORGANIZER;CN="LauraAnne Branson":MAILTO:lbranson@countryclubgwinnett.com
END:VEVENT
BEGIN:VEVENT
DTSTART;TZID=America/New_York:20270101T173000
DTEND;TZID=America/New_York:20270101T193000
DTSTAMP:20260423T062033
CREATED:20260416T194220Z
LAST-MODIFIED:20260416T194220Z
UID:10004396-1798824600-1798831800@www.countryclubgwinnett.com
SUMMARY:PGA Junior League
DESCRIPTION:Join our PGA Junior League! ⛳️ \nMatches take place on Wednesday nights\, with practice every Friday night. Stick around after practice on Fridays to hang out\, have fun\, and enjoy the club atmosphere with friends! 🎉
URL:https://www.countryclubgwinnett.com/event/pga-junior-league/2027-01-01/
ORGANIZER;CN="LauraAnne Branson":MAILTO:lbranson@countryclubgwinnett.com
END:VEVENT
BEGIN:VEVENT
DTSTART;TZID=America/New_York:20270106T173000
DTEND;TZID=America/New_York:20270106T193000
DTSTAMP:20260423T062033
CREATED:20260416T194220Z
LAST-MODIFIED:20260416T194220Z
UID:10004397-1799256600-1799263800@www.countryclubgwinnett.com
SUMMARY:PGA Junior League
DESCRIPTION:Join our PGA Junior League! ⛳️ \nMatches take place on Wednesday nights\, with practice every Friday night. Stick around after practice on Fridays to hang out\, have fun\, and enjoy the club atmosphere with friends! 🎉
URL:https://www.countryclubgwinnett.com/event/pga-junior-league/2027-01-06/
ORGANIZER;CN="LauraAnne Branson":MAILTO:lbranson@countryclubgwinnett.com
END:VEVENT
BEGIN:VEVENT
DTSTART;TZID=America/New_York:20270108T173000
DTEND;TZID=America/New_York:20270108T193000
DTSTAMP:20260423T062033
CREATED:20260416T194220Z
LAST-MODIFIED:20260416T194220Z
UID:10004398-1799429400-1799436600@www.countryclubgwinnett.com
SUMMARY:PGA Junior League
DESCRIPTION:Join our PGA Junior League! ⛳️ \nMatches take place on Wednesday nights\, with practice every Friday night. Stick around after practice on Fridays to hang out\, have fun\, and enjoy the club atmosphere with friends! 🎉
URL:https://www.countryclubgwinnett.com/event/pga-junior-league/2027-01-08/
ORGANIZER;CN="LauraAnne Branson":MAILTO:lbranson@countryclubgwinnett.com
END:VEVENT
BEGIN:VEVENT
DTSTART;TZID=America/New_York:20270113T173000
DTEND;TZID=America/New_York:20270113T193000
DTSTAMP:20260423T062033
CREATED:20260416T194220Z
LAST-MODIFIED:20260416T194220Z
UID:10004399-1799861400-1799868600@www.countryclubgwinnett.com
SUMMARY:PGA Junior League
DESCRIPTION:Join our PGA Junior League! ⛳️ \nMatches take place on Wednesday nights\, with practice every Friday night. Stick around after practice on Fridays to hang out\, have fun\, and enjoy the club atmosphere with friends! 🎉
URL:https://www.countryclubgwinnett.com/event/pga-junior-league/2027-01-13/
ORGANIZER;CN="LauraAnne Branson":MAILTO:lbranson@countryclubgwinnett.com
END:VEVENT
BEGIN:VEVENT
DTSTART;TZID=America/New_York:20270115T173000
DTEND;TZID=America/New_York:20270115T193000
DTSTAMP:20260423T062033
CREATED:20260416T194220Z
LAST-MODIFIED:20260416T194220Z
UID:10004400-1800034200-1800041400@www.countryclubgwinnett.com
SUMMARY:PGA Junior League
DESCRIPTION:Join our PGA Junior League! ⛳️ \nMatches take place on Wednesday nights\, with practice every Friday night. Stick around after practice on Fridays to hang out\, have fun\, and enjoy the club atmosphere with friends! 🎉
URL:https://www.countryclubgwinnett.com/event/pga-junior-league/2027-01-15/
ORGANIZER;CN="LauraAnne Branson":MAILTO:lbranson@countryclubgwinnett.com
END:VEVENT
BEGIN:VEVENT
DTSTART;TZID=America/New_York:20270120T173000
DTEND;TZID=America/New_York:20270120T193000
DTSTAMP:20260423T062033
CREATED:20260416T194220Z
LAST-MODIFIED:20260416T194220Z
UID:10004401-1800466200-1800473400@www.countryclubgwinnett.com
SUMMARY:PGA Junior League
DESCRIPTION:Join our PGA Junior League! ⛳️ \nMatches take place on Wednesday nights\, with practice every Friday night. Stick around after practice on Fridays to hang out\, have fun\, and enjoy the club atmosphere with friends! 🎉
URL:https://www.countryclubgwinnett.com/event/pga-junior-league/2027-01-20/
ORGANIZER;CN="LauraAnne Branson":MAILTO:lbranson@countryclubgwinnett.com
END:VEVENT
END:VCALENDAR