BEGIN:VCALENDAR
VERSION:2.0
PRODID:-//Country Club of Gwinnett - ECPv6.15.18//NONSGML v1.0//EN
CALSCALE:GREGORIAN
METHOD:PUBLISH
X-WR-CALNAME:Country Club of Gwinnett
X-ORIGINAL-URL:https://www.countryclubgwinnett.com
X-WR-CALDESC:Events for Country Club of Gwinnett
REFRESH-INTERVAL;VALUE=DURATION:PT1H
X-Robots-Tag:noindex
X-PUBLISHED-TTL:PT1H
BEGIN:VTIMEZONE
TZID:America/New_York
BEGIN:DAYLIGHT
TZOFFSETFROM:-0500
TZOFFSETTO:-0400
TZNAME:EDT
DTSTART:20260308T070000
END:DAYLIGHT
BEGIN:STANDARD
TZOFFSETFROM:-0400
TZOFFSETTO:-0500
TZNAME:EST
DTSTART:20261101T060000
END:STANDARD
BEGIN:DAYLIGHT
TZOFFSETFROM:-0500
TZOFFSETTO:-0400
TZNAME:EDT
DTSTART:20270314T070000
END:DAYLIGHT
BEGIN:STANDARD
TZOFFSETFROM:-0400
TZOFFSETTO:-0500
TZNAME:EST
DTSTART:20271107T060000
END:STANDARD
BEGIN:DAYLIGHT
TZOFFSETFROM:-0500
TZOFFSETTO:-0400
TZNAME:EDT
DTSTART:20280312T070000
END:DAYLIGHT
BEGIN:STANDARD
TZOFFSETFROM:-0400
TZOFFSETTO:-0500
TZNAME:EST
DTSTART:20281105T060000
END:STANDARD
END:VTIMEZONE
BEGIN:VEVENT
DTSTART;TZID=America/New_York:20270615T100000
DTEND;TZID=America/New_York:20270615T150000
DTSTAMP:20260423T230711
CREATED:20260416T192634Z
LAST-MODIFIED:20260416T195509Z
UID:10002999-1813053600-1813071600@www.countryclubgwinnett.com
SUMMARY:Senior Men's Golf Group
DESCRIPTION:Senior Men’s Golf Group ⛳️Join us every Monday\, Tuesday\, Thursday & Friday for great golf and even better company. First tee time rolls out at 10:03 AM — don’t miss it!
URL:https://www.countryclubgwinnett.com/event/senior-mens-golf-group/2027-06-15/
ORGANIZER;CN="LauraAnne Branson":MAILTO:lbranson@countryclubgwinnett.com
END:VEVENT
BEGIN:VEVENT
DTSTART;TZID=America/New_York:20270616T173000
DTEND;TZID=America/New_York:20270616T193000
DTSTAMP:20260423T230711
CREATED:20260416T194220Z
LAST-MODIFIED:20260416T194220Z
UID:10004443-1813167000-1813174200@www.countryclubgwinnett.com
SUMMARY:PGA Junior League
DESCRIPTION:Join our PGA Junior League! ⛳️ \nMatches take place on Wednesday nights\, with practice every Friday night. Stick around after practice on Fridays to hang out\, have fun\, and enjoy the club atmosphere with friends! 🎉
URL:https://www.countryclubgwinnett.com/event/pga-junior-league/2027-06-16/
ORGANIZER;CN="LauraAnne Branson":MAILTO:lbranson@countryclubgwinnett.com
END:VEVENT
BEGIN:VEVENT
DTSTART;TZID=America/New_York:20270617T100000
DTEND;TZID=America/New_York:20270617T150000
DTSTAMP:20260423T230711
CREATED:20260416T192634Z
LAST-MODIFIED:20260416T195509Z
UID:10003000-1813226400-1813244400@www.countryclubgwinnett.com
SUMMARY:Senior Men's Golf Group
DESCRIPTION:Senior Men’s Golf Group ⛳️Join us every Monday\, Tuesday\, Thursday & Friday for great golf and even better company. First tee time rolls out at 10:03 AM — don’t miss it!
URL:https://www.countryclubgwinnett.com/event/senior-mens-golf-group/2027-06-17/
ORGANIZER;CN="LauraAnne Branson":MAILTO:lbranson@countryclubgwinnett.com
END:VEVENT
BEGIN:VEVENT
DTSTART;TZID=America/New_York:20270618T100000
DTEND;TZID=America/New_York:20270618T150000
DTSTAMP:20260423T230711
CREATED:20260416T192634Z
LAST-MODIFIED:20260416T195509Z
UID:10003001-1813312800-1813330800@www.countryclubgwinnett.com
SUMMARY:Senior Men's Golf Group
DESCRIPTION:Senior Men’s Golf Group ⛳️Join us every Monday\, Tuesday\, Thursday & Friday for great golf and even better company. First tee time rolls out at 10:03 AM — don’t miss it!
URL:https://www.countryclubgwinnett.com/event/senior-mens-golf-group/2027-06-18/
ORGANIZER;CN="LauraAnne Branson":MAILTO:lbranson@countryclubgwinnett.com
END:VEVENT
BEGIN:VEVENT
DTSTART;TZID=America/New_York:20270618T170000
DTEND;TZID=America/New_York:20270618T180000
DTSTAMP:20260423T230711
CREATED:20260416T194341Z
LAST-MODIFIED:20260416T194341Z
UID:10004905-1813338000-1813341600@www.countryclubgwinnett.com
SUMMARY:Happy Hour
DESCRIPTION:
URL:https://www.countryclubgwinnett.com/event/happy-hour/2027-06-18/
END:VEVENT
BEGIN:VEVENT
DTSTART;TZID=America/New_York:20270618T170000
DTEND;TZID=America/New_York:20270618T210000
DTSTAMP:20260423T230711
CREATED:20251107T134406Z
LAST-MODIFIED:20260416T194429Z
UID:10000711-1813338000-1813352400@www.countryclubgwinnett.com
SUMMARY:Friday Night Dinner
DESCRIPTION:
URL:https://www.countryclubgwinnett.com/event/friday-night-dinner-5/2027-06-18/
ORGANIZER;CN="Osean McDowell":MAILTO:plateupllc@gmail.com
END:VEVENT
BEGIN:VEVENT
DTSTART;TZID=America/New_York:20270618T173000
DTEND;TZID=America/New_York:20270618T193000
DTSTAMP:20260423T230711
CREATED:20260416T194220Z
LAST-MODIFIED:20260416T194220Z
UID:10004444-1813339800-1813347000@www.countryclubgwinnett.com
SUMMARY:PGA Junior League
DESCRIPTION:Join our PGA Junior League! ⛳️ \nMatches take place on Wednesday nights\, with practice every Friday night. Stick around after practice on Fridays to hang out\, have fun\, and enjoy the club atmosphere with friends! 🎉
URL:https://www.countryclubgwinnett.com/event/pga-junior-league/2027-06-18/
ORGANIZER;CN="LauraAnne Branson":MAILTO:lbranson@countryclubgwinnett.com
END:VEVENT
BEGIN:VEVENT
DTSTART;TZID=America/New_York:20270619T080000
DTEND;TZID=America/New_York:20270619T130000
DTSTAMP:20260423T230711
CREATED:20260416T200237Z
LAST-MODIFIED:20260416T200237Z
UID:10005189-1813392000-1813410000@www.countryclubgwinnett.com
SUMMARY:Sandbagger's Group
DESCRIPTION: 
URL:https://www.countryclubgwinnett.com/event/sandbaggers-group/2027-06-19/
END:VEVENT
BEGIN:VEVENT
DTSTART;TZID=America/New_York:20270620T100000
DTEND;TZID=America/New_York:20270620T140000
DTSTAMP:20260423T230711
CREATED:20260416T193027Z
LAST-MODIFIED:20260416T193027Z
UID:10004121-1813485600-1813500000@www.countryclubgwinnett.com
SUMMARY:Sunday Brunch
DESCRIPTION:
URL:https://www.countryclubgwinnett.com/event/sunday-brunch/2027-06-20/
END:VEVENT
BEGIN:VEVENT
DTSTART;TZID=America/New_York:20270621T100000
DTEND;TZID=America/New_York:20270621T150000
DTSTAMP:20260423T230711
CREATED:20260416T192634Z
LAST-MODIFIED:20260416T195509Z
UID:10003002-1813572000-1813590000@www.countryclubgwinnett.com
SUMMARY:Senior Men's Golf Group
DESCRIPTION:Senior Men’s Golf Group ⛳️Join us every Monday\, Tuesday\, Thursday & Friday for great golf and even better company. First tee time rolls out at 10:03 AM — don’t miss it!
URL:https://www.countryclubgwinnett.com/event/senior-mens-golf-group/2027-06-21/
ORGANIZER;CN="LauraAnne Branson":MAILTO:lbranson@countryclubgwinnett.com
END:VEVENT
BEGIN:VEVENT
DTSTART;VALUE=DATE:20270622
DTEND;VALUE=DATE:20270623
DTSTAMP:20260423T230711
CREATED:20251106T191641Z
LAST-MODIFIED:20260416T201335Z
UID:10000450-1813622400-1813708799@www.countryclubgwinnett.com
SUMMARY:TACO TUESDAY $2.00
DESCRIPTION: 
URL:https://www.countryclubgwinnett.com/event/taco-tuesday-2-00/2027-06-22/
ORGANIZER;CN="Osean McDowell":MAILTO:plateupllc@gmail.com
END:VEVENT
BEGIN:VEVENT
DTSTART;TZID=America/New_York:20270622T100000
DTEND;TZID=America/New_York:20270622T150000
DTSTAMP:20260423T230711
CREATED:20260416T192634Z
LAST-MODIFIED:20260416T195509Z
UID:10003003-1813658400-1813676400@www.countryclubgwinnett.com
SUMMARY:Senior Men's Golf Group
DESCRIPTION:Senior Men’s Golf Group ⛳️Join us every Monday\, Tuesday\, Thursday & Friday for great golf and even better company. First tee time rolls out at 10:03 AM — don’t miss it!
URL:https://www.countryclubgwinnett.com/event/senior-mens-golf-group/2027-06-22/
ORGANIZER;CN="LauraAnne Branson":MAILTO:lbranson@countryclubgwinnett.com
END:VEVENT
BEGIN:VEVENT
DTSTART;TZID=America/New_York:20270623T173000
DTEND;TZID=America/New_York:20270623T193000
DTSTAMP:20260423T230711
CREATED:20260416T194220Z
LAST-MODIFIED:20260416T194220Z
UID:10004445-1813771800-1813779000@www.countryclubgwinnett.com
SUMMARY:PGA Junior League
DESCRIPTION:Join our PGA Junior League! ⛳️ \nMatches take place on Wednesday nights\, with practice every Friday night. Stick around after practice on Fridays to hang out\, have fun\, and enjoy the club atmosphere with friends! 🎉
URL:https://www.countryclubgwinnett.com/event/pga-junior-league/2027-06-23/
ORGANIZER;CN="LauraAnne Branson":MAILTO:lbranson@countryclubgwinnett.com
END:VEVENT
BEGIN:VEVENT
DTSTART;TZID=America/New_York:20270624T100000
DTEND;TZID=America/New_York:20270624T150000
DTSTAMP:20260423T230711
CREATED:20260416T192634Z
LAST-MODIFIED:20260416T195509Z
UID:10003004-1813831200-1813849200@www.countryclubgwinnett.com
SUMMARY:Senior Men's Golf Group
DESCRIPTION:Senior Men’s Golf Group ⛳️Join us every Monday\, Tuesday\, Thursday & Friday for great golf and even better company. First tee time rolls out at 10:03 AM — don’t miss it!
URL:https://www.countryclubgwinnett.com/event/senior-mens-golf-group/2027-06-24/
ORGANIZER;CN="LauraAnne Branson":MAILTO:lbranson@countryclubgwinnett.com
END:VEVENT
BEGIN:VEVENT
DTSTART;TZID=America/New_York:20270625T100000
DTEND;TZID=America/New_York:20270625T150000
DTSTAMP:20260423T230711
CREATED:20260416T192634Z
LAST-MODIFIED:20260416T195509Z
UID:10003005-1813917600-1813935600@www.countryclubgwinnett.com
SUMMARY:Senior Men's Golf Group
DESCRIPTION:Senior Men’s Golf Group ⛳️Join us every Monday\, Tuesday\, Thursday & Friday for great golf and even better company. First tee time rolls out at 10:03 AM — don’t miss it!
URL:https://www.countryclubgwinnett.com/event/senior-mens-golf-group/2027-06-25/
ORGANIZER;CN="LauraAnne Branson":MAILTO:lbranson@countryclubgwinnett.com
END:VEVENT
BEGIN:VEVENT
DTSTART;TZID=America/New_York:20270625T170000
DTEND;TZID=America/New_York:20270625T180000
DTSTAMP:20260423T230711
CREATED:20260416T194341Z
LAST-MODIFIED:20260416T194341Z
UID:10004906-1813942800-1813946400@www.countryclubgwinnett.com
SUMMARY:Happy Hour
DESCRIPTION:
URL:https://www.countryclubgwinnett.com/event/happy-hour/2027-06-25/
END:VEVENT
BEGIN:VEVENT
DTSTART;TZID=America/New_York:20270625T170000
DTEND;TZID=America/New_York:20270625T210000
DTSTAMP:20260423T230711
CREATED:20251107T134406Z
LAST-MODIFIED:20260416T194429Z
UID:10000712-1813942800-1813957200@www.countryclubgwinnett.com
SUMMARY:Friday Night Dinner
DESCRIPTION:
URL:https://www.countryclubgwinnett.com/event/friday-night-dinner-5/2027-06-25/
ORGANIZER;CN="Osean McDowell":MAILTO:plateupllc@gmail.com
END:VEVENT
BEGIN:VEVENT
DTSTART;TZID=America/New_York:20270625T173000
DTEND;TZID=America/New_York:20270625T193000
DTSTAMP:20260423T230711
CREATED:20260416T194220Z
LAST-MODIFIED:20260416T194220Z
UID:10004446-1813944600-1813951800@www.countryclubgwinnett.com
SUMMARY:PGA Junior League
DESCRIPTION:Join our PGA Junior League! ⛳️ \nMatches take place on Wednesday nights\, with practice every Friday night. Stick around after practice on Fridays to hang out\, have fun\, and enjoy the club atmosphere with friends! 🎉
URL:https://www.countryclubgwinnett.com/event/pga-junior-league/2027-06-25/
ORGANIZER;CN="LauraAnne Branson":MAILTO:lbranson@countryclubgwinnett.com
END:VEVENT
BEGIN:VEVENT
DTSTART;TZID=America/New_York:20270626T080000
DTEND;TZID=America/New_York:20270626T130000
DTSTAMP:20260423T230711
CREATED:20260416T200237Z
LAST-MODIFIED:20260416T200237Z
UID:10005190-1813996800-1814014800@www.countryclubgwinnett.com
SUMMARY:Sandbagger's Group
DESCRIPTION: 
URL:https://www.countryclubgwinnett.com/event/sandbaggers-group/2027-06-26/
END:VEVENT
BEGIN:VEVENT
DTSTART;TZID=America/New_York:20270627T100000
DTEND;TZID=America/New_York:20270627T140000
DTSTAMP:20260423T230711
CREATED:20260416T193027Z
LAST-MODIFIED:20260416T193027Z
UID:10004122-1814090400-1814104800@www.countryclubgwinnett.com
SUMMARY:Sunday Brunch
DESCRIPTION:
URL:https://www.countryclubgwinnett.com/event/sunday-brunch/2027-06-27/
END:VEVENT
BEGIN:VEVENT
DTSTART;TZID=America/New_York:20270628T100000
DTEND;TZID=America/New_York:20270628T150000
DTSTAMP:20260423T230711
CREATED:20260416T192634Z
LAST-MODIFIED:20260416T195509Z
UID:10003006-1814176800-1814194800@www.countryclubgwinnett.com
SUMMARY:Senior Men's Golf Group
DESCRIPTION:Senior Men’s Golf Group ⛳️Join us every Monday\, Tuesday\, Thursday & Friday for great golf and even better company. First tee time rolls out at 10:03 AM — don’t miss it!
URL:https://www.countryclubgwinnett.com/event/senior-mens-golf-group/2027-06-28/
ORGANIZER;CN="LauraAnne Branson":MAILTO:lbranson@countryclubgwinnett.com
END:VEVENT
BEGIN:VEVENT
DTSTART;VALUE=DATE:20270629
DTEND;VALUE=DATE:20270630
DTSTAMP:20260423T230711
CREATED:20251106T191641Z
LAST-MODIFIED:20260416T201335Z
UID:10000451-1814227200-1814313599@www.countryclubgwinnett.com
SUMMARY:TACO TUESDAY $2.00
DESCRIPTION: 
URL:https://www.countryclubgwinnett.com/event/taco-tuesday-2-00/2027-06-29/
ORGANIZER;CN="Osean McDowell":MAILTO:plateupllc@gmail.com
END:VEVENT
BEGIN:VEVENT
DTSTART;TZID=America/New_York:20270629T100000
DTEND;TZID=America/New_York:20270629T150000
DTSTAMP:20260423T230711
CREATED:20260416T192634Z
LAST-MODIFIED:20260416T195509Z
UID:10003007-1814263200-1814281200@www.countryclubgwinnett.com
SUMMARY:Senior Men's Golf Group
DESCRIPTION:Senior Men’s Golf Group ⛳️Join us every Monday\, Tuesday\, Thursday & Friday for great golf and even better company. First tee time rolls out at 10:03 AM — don’t miss it!
URL:https://www.countryclubgwinnett.com/event/senior-mens-golf-group/2027-06-29/
ORGANIZER;CN="LauraAnne Branson":MAILTO:lbranson@countryclubgwinnett.com
END:VEVENT
BEGIN:VEVENT
DTSTART;TZID=America/New_York:20270630T173000
DTEND;TZID=America/New_York:20270630T193000
DTSTAMP:20260423T230711
CREATED:20260416T194220Z
LAST-MODIFIED:20260416T194220Z
UID:10004447-1814376600-1814383800@www.countryclubgwinnett.com
SUMMARY:PGA Junior League
DESCRIPTION:Join our PGA Junior League! ⛳️ \nMatches take place on Wednesday nights\, with practice every Friday night. Stick around after practice on Fridays to hang out\, have fun\, and enjoy the club atmosphere with friends! 🎉
URL:https://www.countryclubgwinnett.com/event/pga-junior-league/2027-06-30/
ORGANIZER;CN="LauraAnne Branson":MAILTO:lbranson@countryclubgwinnett.com
END:VEVENT
BEGIN:VEVENT
DTSTART;TZID=America/New_York:20270701T100000
DTEND;TZID=America/New_York:20270701T150000
DTSTAMP:20260423T230711
CREATED:20260416T192634Z
LAST-MODIFIED:20260416T195509Z
UID:10003008-1814436000-1814454000@www.countryclubgwinnett.com
SUMMARY:Senior Men's Golf Group
DESCRIPTION:Senior Men’s Golf Group ⛳️Join us every Monday\, Tuesday\, Thursday & Friday for great golf and even better company. First tee time rolls out at 10:03 AM — don’t miss it!
URL:https://www.countryclubgwinnett.com/event/senior-mens-golf-group/2027-07-01/
ORGANIZER;CN="LauraAnne Branson":MAILTO:lbranson@countryclubgwinnett.com
END:VEVENT
BEGIN:VEVENT
DTSTART;TZID=America/New_York:20270702T100000
DTEND;TZID=America/New_York:20270702T150000
DTSTAMP:20260423T230711
CREATED:20260416T192634Z
LAST-MODIFIED:20260416T195509Z
UID:10003009-1814522400-1814540400@www.countryclubgwinnett.com
SUMMARY:Senior Men's Golf Group
DESCRIPTION:Senior Men’s Golf Group ⛳️Join us every Monday\, Tuesday\, Thursday & Friday for great golf and even better company. First tee time rolls out at 10:03 AM — don’t miss it!
URL:https://www.countryclubgwinnett.com/event/senior-mens-golf-group/2027-07-02/
ORGANIZER;CN="LauraAnne Branson":MAILTO:lbranson@countryclubgwinnett.com
END:VEVENT
BEGIN:VEVENT
DTSTART;TZID=America/New_York:20270702T170000
DTEND;TZID=America/New_York:20270702T180000
DTSTAMP:20260423T230711
CREATED:20260416T194341Z
LAST-MODIFIED:20260416T194341Z
UID:10004907-1814547600-1814551200@www.countryclubgwinnett.com
SUMMARY:Happy Hour
DESCRIPTION:
URL:https://www.countryclubgwinnett.com/event/happy-hour/2027-07-02/
END:VEVENT
BEGIN:VEVENT
DTSTART;TZID=America/New_York:20270702T170000
DTEND;TZID=America/New_York:20270702T210000
DTSTAMP:20260423T230711
CREATED:20251107T134406Z
LAST-MODIFIED:20260416T194429Z
UID:10000713-1814547600-1814562000@www.countryclubgwinnett.com
SUMMARY:Friday Night Dinner
DESCRIPTION:
URL:https://www.countryclubgwinnett.com/event/friday-night-dinner-5/2027-07-02/
ORGANIZER;CN="Osean McDowell":MAILTO:plateupllc@gmail.com
END:VEVENT
BEGIN:VEVENT
DTSTART;TZID=America/New_York:20270702T173000
DTEND;TZID=America/New_York:20270702T193000
DTSTAMP:20260423T230711
CREATED:20260416T194220Z
LAST-MODIFIED:20260416T194220Z
UID:10004448-1814549400-1814556600@www.countryclubgwinnett.com
SUMMARY:PGA Junior League
DESCRIPTION:Join our PGA Junior League! ⛳️ \nMatches take place on Wednesday nights\, with practice every Friday night. Stick around after practice on Fridays to hang out\, have fun\, and enjoy the club atmosphere with friends! 🎉
URL:https://www.countryclubgwinnett.com/event/pga-junior-league/2027-07-02/
ORGANIZER;CN="LauraAnne Branson":MAILTO:lbranson@countryclubgwinnett.com
END:VEVENT
BEGIN:VEVENT
DTSTART;TZID=America/New_York:20270703T080000
DTEND;TZID=America/New_York:20270703T130000
DTSTAMP:20260423T230711
CREATED:20260416T200237Z
LAST-MODIFIED:20260416T200237Z
UID:10005191-1814601600-1814619600@www.countryclubgwinnett.com
SUMMARY:Sandbagger's Group
DESCRIPTION: 
URL:https://www.countryclubgwinnett.com/event/sandbaggers-group/2027-07-03/
END:VEVENT
END:VCALENDAR