BEGIN:VCALENDAR
VERSION:2.0
PRODID:-//Country Club of Gwinnett - ECPv6.15.18//NONSGML v1.0//EN
CALSCALE:GREGORIAN
METHOD:PUBLISH
X-WR-CALNAME:Country Club of Gwinnett
X-ORIGINAL-URL:https://www.countryclubgwinnett.com
X-WR-CALDESC:Events for Country Club of Gwinnett
REFRESH-INTERVAL;VALUE=DURATION:PT1H
X-Robots-Tag:noindex
X-PUBLISHED-TTL:PT1H
BEGIN:VTIMEZONE
TZID:America/New_York
BEGIN:DAYLIGHT
TZOFFSETFROM:-0500
TZOFFSETTO:-0400
TZNAME:EDT
DTSTART:20250309T070000
END:DAYLIGHT
BEGIN:STANDARD
TZOFFSETFROM:-0400
TZOFFSETTO:-0500
TZNAME:EST
DTSTART:20251102T060000
END:STANDARD
BEGIN:DAYLIGHT
TZOFFSETFROM:-0500
TZOFFSETTO:-0400
TZNAME:EDT
DTSTART:20260308T070000
END:DAYLIGHT
BEGIN:STANDARD
TZOFFSETFROM:-0400
TZOFFSETTO:-0500
TZNAME:EST
DTSTART:20261101T060000
END:STANDARD
BEGIN:DAYLIGHT
TZOFFSETFROM:-0500
TZOFFSETTO:-0400
TZNAME:EDT
DTSTART:20270314T070000
END:DAYLIGHT
BEGIN:STANDARD
TZOFFSETFROM:-0400
TZOFFSETTO:-0500
TZNAME:EST
DTSTART:20271107T060000
END:STANDARD
END:VTIMEZONE
BEGIN:VEVENT
DTSTART;TZID=America/New_York:20260616T080000
DTEND;TZID=America/New_York:20260616T140000
DTSTAMP:20260424T074836
CREATED:20260416T180751Z
LAST-MODIFIED:20260416T180751Z
UID:10001957-1781596800-1781618400@www.countryclubgwinnett.com
SUMMARY:2026 CCG Golf & Tennis Summer Camp
DESCRIPTION:
URL:https://www.countryclubgwinnett.com/event/2026-ccg-golf-tennis-summer-camp/2026-06-16/
ORGANIZER;CN="LauraAnne Branson":MAILTO:lbranson@countryclubgwinnett.com
END:VEVENT
BEGIN:VEVENT
DTSTART;TZID=America/New_York:20260617T080000
DTEND;TZID=America/New_York:20260617T140000
DTSTAMP:20260424T074836
CREATED:20260416T180751Z
LAST-MODIFIED:20260416T180751Z
UID:10001958-1781683200-1781704800@www.countryclubgwinnett.com
SUMMARY:2026 CCG Golf & Tennis Summer Camp
DESCRIPTION:
URL:https://www.countryclubgwinnett.com/event/2026-ccg-golf-tennis-summer-camp/2026-06-17/
ORGANIZER;CN="LauraAnne Branson":MAILTO:lbranson@countryclubgwinnett.com
END:VEVENT
BEGIN:VEVENT
DTSTART;TZID=America/New_York:20260618T080000
DTEND;TZID=America/New_York:20260618T140000
DTSTAMP:20260424T074836
CREATED:20260416T180751Z
LAST-MODIFIED:20260416T180751Z
UID:10001959-1781769600-1781791200@www.countryclubgwinnett.com
SUMMARY:2026 CCG Golf & Tennis Summer Camp
DESCRIPTION:
URL:https://www.countryclubgwinnett.com/event/2026-ccg-golf-tennis-summer-camp/2026-06-18/
ORGANIZER;CN="LauraAnne Branson":MAILTO:lbranson@countryclubgwinnett.com
END:VEVENT
BEGIN:VEVENT
DTSTART;TZID=America/New_York:20260619T080000
DTEND;TZID=America/New_York:20260619T140000
DTSTAMP:20260424T074836
CREATED:20260416T180751Z
LAST-MODIFIED:20260416T180751Z
UID:10001960-1781856000-1781877600@www.countryclubgwinnett.com
SUMMARY:2026 CCG Golf & Tennis Summer Camp
DESCRIPTION:
URL:https://www.countryclubgwinnett.com/event/2026-ccg-golf-tennis-summer-camp/2026-06-19/
ORGANIZER;CN="LauraAnne Branson":MAILTO:lbranson@countryclubgwinnett.com
END:VEVENT
END:VCALENDAR