BEGIN:VCALENDAR
VERSION:2.0
PRODID:-//Country Club of Gwinnett - ECPv6.15.18//NONSGML v1.0//EN
CALSCALE:GREGORIAN
METHOD:PUBLISH
X-WR-CALNAME:Country Club of Gwinnett
X-ORIGINAL-URL:https://www.countryclubgwinnett.com
X-WR-CALDESC:Events for Country Club of Gwinnett
REFRESH-INTERVAL;VALUE=DURATION:PT1H
X-Robots-Tag:noindex
X-PUBLISHED-TTL:PT1H
BEGIN:VTIMEZONE
TZID:America/New_York
BEGIN:DAYLIGHT
TZOFFSETFROM:-0500
TZOFFSETTO:-0400
TZNAME:EDT
DTSTART:20250309T070000
END:DAYLIGHT
BEGIN:STANDARD
TZOFFSETFROM:-0400
TZOFFSETTO:-0500
TZNAME:EST
DTSTART:20251102T060000
END:STANDARD
BEGIN:DAYLIGHT
TZOFFSETFROM:-0500
TZOFFSETTO:-0400
TZNAME:EDT
DTSTART:20260308T070000
END:DAYLIGHT
BEGIN:STANDARD
TZOFFSETFROM:-0400
TZOFFSETTO:-0500
TZNAME:EST
DTSTART:20261101T060000
END:STANDARD
BEGIN:DAYLIGHT
TZOFFSETFROM:-0500
TZOFFSETTO:-0400
TZNAME:EDT
DTSTART:20270314T070000
END:DAYLIGHT
BEGIN:STANDARD
TZOFFSETFROM:-0400
TZOFFSETTO:-0500
TZNAME:EST
DTSTART:20271107T060000
END:STANDARD
END:VTIMEZONE
BEGIN:VEVENT
DTSTART;TZID=America/New_York:20260423T100000
DTEND;TZID=America/New_York:20260423T150000
DTSTAMP:20260423T061440
CREATED:20260416T192634Z
LAST-MODIFIED:20260416T195509Z
UID:10002760-1776938400-1776956400@www.countryclubgwinnett.com
SUMMARY:Senior Men's Golf Group
DESCRIPTION:Senior Men’s Golf Group ⛳️Join us every Monday\, Tuesday\, Thursday & Friday for great golf and even better company. First tee time rolls out at 10:03 AM — don’t miss it!
URL:https://www.countryclubgwinnett.com/event/senior-mens-golf-group/2026-04-23/
ORGANIZER;CN="LauraAnne Branson":MAILTO:lbranson@countryclubgwinnett.com
END:VEVENT
BEGIN:VEVENT
DTSTART;TZID=America/New_York:20260423T173000
DTEND;TZID=America/New_York:20260423T203000
DTSTAMP:20260423T061440
CREATED:20260416T180016Z
LAST-MODIFIED:20260417T184940Z
UID:10005413-1776965400-1776976200@www.countryclubgwinnett.com
SUMMARY:Thursday Night Scramble
DESCRIPTION:
URL:https://www.countryclubgwinnett.com/event/thursday-night-scramble/2026-04-23/
ORGANIZER;CN="LauraAnne Branson":MAILTO:lbranson@countryclubgwinnett.com
END:VEVENT
END:VCALENDAR